BEGIN:VCALENDAR
VERSION:2.0
PRODID:-//Parker Buyer Advocates - ECPv6.15.18//NONSGML v1.0//EN
CALSCALE:GREGORIAN
METHOD:PUBLISH
X-ORIGINAL-URL:https://www.parkerbuyeradvocates.com.au
X-WR-CALDESC:Events for Parker Buyer Advocates
REFRESH-INTERVAL;VALUE=DURATION:PT1H
X-Robots-Tag:noindex
X-PUBLISHED-TTL:PT1H
BEGIN:VTIMEZONE
TZID:Australia/Melbourne
BEGIN:STANDARD
TZOFFSETFROM:+1100
TZOFFSETTO:+1000
TZNAME:AEST
DTSTART:20180331T160000
END:STANDARD
BEGIN:DAYLIGHT
TZOFFSETFROM:+1000
TZOFFSETTO:+1100
TZNAME:AEDT
DTSTART:20181006T160000
END:DAYLIGHT
BEGIN:STANDARD
TZOFFSETFROM:+1100
TZOFFSETTO:+1000
TZNAME:AEST
DTSTART:20190406T160000
END:STANDARD
BEGIN:DAYLIGHT
TZOFFSETFROM:+1000
TZOFFSETTO:+1100
TZNAME:AEDT
DTSTART:20191005T160000
END:DAYLIGHT
BEGIN:STANDARD
TZOFFSETFROM:+1100
TZOFFSETTO:+1000
TZNAME:AEST
DTSTART:20200404T160000
END:STANDARD
BEGIN:DAYLIGHT
TZOFFSETFROM:+1000
TZOFFSETTO:+1100
TZNAME:AEDT
DTSTART:20201003T160000
END:DAYLIGHT
BEGIN:STANDARD
TZOFFSETFROM:+1100
TZOFFSETTO:+1000
TZNAME:AEST
DTSTART:20210403T160000
END:STANDARD
BEGIN:DAYLIGHT
TZOFFSETFROM:+1000
TZOFFSETTO:+1100
TZNAME:AEDT
DTSTART:20211002T160000
END:DAYLIGHT
BEGIN:STANDARD
TZOFFSETFROM:+1100
TZOFFSETTO:+1000
TZNAME:AEST
DTSTART:20220402T160000
END:STANDARD
BEGIN:DAYLIGHT
TZOFFSETFROM:+1000
TZOFFSETTO:+1100
TZNAME:AEDT
DTSTART:20221001T160000
END:DAYLIGHT
BEGIN:STANDARD
TZOFFSETFROM:+1100
TZOFFSETTO:+1000
TZNAME:AEST
DTSTART:20230401T160000
END:STANDARD
BEGIN:DAYLIGHT
TZOFFSETFROM:+1000
TZOFFSETTO:+1100
TZNAME:AEDT
DTSTART:20230930T160000
END:DAYLIGHT
BEGIN:STANDARD
TZOFFSETFROM:+1100
TZOFFSETTO:+1000
TZNAME:AEST
DTSTART:20240406T160000
END:STANDARD
BEGIN:DAYLIGHT
TZOFFSETFROM:+1000
TZOFFSETTO:+1100
TZNAME:AEDT
DTSTART:20241005T160000
END:DAYLIGHT
BEGIN:STANDARD
TZOFFSETFROM:+1100
TZOFFSETTO:+1000
TZNAME:AEST
DTSTART:20250405T160000
END:STANDARD
BEGIN:DAYLIGHT
TZOFFSETFROM:+1000
TZOFFSETTO:+1100
TZNAME:AEDT
DTSTART:20251004T160000
END:DAYLIGHT
END:VTIMEZONE
BEGIN:VEVENT
DTSTART;TZID=Australia/Melbourne:20241211T200000
DTEND;TZID=Australia/Melbourne:20241211T213000
DTSTAMP:20260423T205849
CREATED:20241210T011919Z
LAST-MODIFIED:20241210T020507Z
UID:10489-1733947200-1733952600@www.parkerbuyeradvocates.com.au
SUMMARY:🌟 Melbourne Property Market: The Calm Before the Storm? 🌟
DESCRIPTION:Brisbane\, Perth\, and South Australia have been leading the nation in property growth for years—but is it finally Melbourne’s time to shine? Has the spotlight shifted? \nJoin Lisa Parker\, one of Melbourne’s most trusted and experienced buyer’s advocates\, as she pulls back the curtains on the Melbourne property market. With over 20 years of experience\, Lisa has seen it all and is ready to share what’s really happening on the ground—beyond the headlines. \nIn this exclusive event\, we’ll explore:\n Is Melbourne on the cusp of growth\, or should you wait to invest?\n What do Melbourne investments look like in 2024?\n How land tax and new standards are reshaping the market.\n What can you get for your money—and where should you look?\n Insider tips to navigate the opportunities and challenges ahead. \nWhether you’re a seasoned investor or just testing the waters\, this is your chance to get a front-row seat to the latest insights and strategies in Melbourne real estate. \nThe big question: Is now the time to jump in\, or wait it out? \nDon’t miss this chance to gain clarity and confidence from an expert who lives and breathes Melbourne property. \n When: Wednesday\, 11th December\n Time: 8:00 PM AEDT\n Where: Online \n Reserve your spot now—it’s FREE! \n Click Here to Register Now \nLet’s uncover the opportunities waiting in Melbourne’s market together. See you there!
URL:https://www.parkerbuyeradvocates.com.au/event/melbourne-property-market-the-calm-before-the-storm/
LOCATION:Webinar\, Australia
CATEGORIES:Webinar
END:VEVENT
BEGIN:VEVENT
DTSTART;TZID=Australia/Melbourne:20240725T180000
DTEND;TZID=Australia/Melbourne:20240725T200000
DTSTAMP:20260423T205849
CREATED:20240725T033040Z
LAST-MODIFIED:20240725T033230Z
UID:10455-1721930400-1721937600@www.parkerbuyeradvocates.com.au
SUMMARY:ANZ Property Market Update
DESCRIPTION:Unlock the Secrets to Successful Home Buying: Join Our Exclusive Education Session! \nAre you ready to take the next step toward purchasing your dream home? Join us for an invaluable home buying education session hosted by ANZ\, featuring expert speakers who will guide you through the entire process and provide you with the knowledge you need to make informed decisions. \nEvent Highlights: \n\nExpert Insights: Learn from seasoned professional Lisa Parker\, a highly experienced buyer’s advocate with over 20 years in the real estate industry.\nComprehensive Coverage: Gain a thorough understanding of the property market\, from current trends and market research to the nuances of auctions and private sales.\nStep-by-Step Guidance: Discover the critical steps to buying a home\, including making an offer\, negotiation tips\, due diligence\, and avoiding common pitfalls.\nProfessional Advice: Understand the roles of various professionals in the home buying process\, and how they can help ensure a smooth and successful purchase.\n\n			\n				Book and pay here
URL:https://www.parkerbuyeradvocates.com.au/event/anz-property-market-update/
LOCATION:ANZ Bourke Street Mall\, Shop 2\, 331-339 Bourke Street Mall\, Melbourne CBD\, VIC\, 3000\, Australia
CATEGORIES:First Home Buyer,Home Buyer,Seminar
ATTACH;FMTTYPE=image/jpeg:https://www.parkerbuyeradvocates.com.au/wp-content/uploads/2024/07/IMG_20190218_174019_268.jpg
END:VEVENT
BEGIN:VEVENT
DTSTART;VALUE=DATE:20240624
DTEND;VALUE=DATE:20240625
DTSTAMP:20260423T205849
CREATED:20240508T054052Z
LAST-MODIFIED:20240509T123933Z
UID:10388-1719187200-1719273599@www.parkerbuyeradvocates.com.au
SUMMARY:Become a Buyer's Agent (Full-Day In-Person Training)
DESCRIPTION:Are you considering a career as a buyer’s agent or eager to enhance your skills in representing buyers in property purchases? Unlock the doors to this exciting field with our immersive\, full-day in-person training! \nEvent Overview: \nThis intensive course is designed to empower aspiring and current agents with the essential skills and knowledge needed to excel as a buyer’s agent. You will dive deep into the step-by-step process of representing buyers in the property market\, including establishing buyer requirements\, sourcing suitable properties\, negotiating favorable terms\, and ensuring seamless settlements. \nKey Highlights:  \n\nEstablish Buyer Requirements: Learn how to identify and confirm your clients’ needs and expectations\, setting the foundation for a successful property search.\nConfirm Buyer Engagement: Develop effective strategies for securing and maintaining the buyer’s commitment to your agency.\nNavigate Agency Practice: Gain a solid understanding of agency operations\, ethical standards\, and legislative requirements.\nSource Properties: Master techniques to find properties that align perfectly with your clients’ criteria.\nNegotiate Confidently: Hone your negotiation skills to secure the best possible terms for your clients.\nMonitor Settlements: Ensure smooth settlements by managing communication and legal requirements.\nMaintain Communication: Build strong relationships with sellers\, buyers\, and other stakeholders throughout the process.\n\nWho Should Attend: This course is perfect for agents who aspire to work as buyer’s agents or those who want to refine their skills to represent buyers effectively. \nExpected Outcomes: By the end of the training\, you will have the practical skills and in-depth knowledge to: \n\nConfirm buyer engagement of your agency\nUnderstand agency practice and ethical standards\nSource properties that meet client requirements\nNegotiate the purchase of properties\nMonitor settlements and maintain communication\n\nSeize this opportunity to advance your career and become a trusted advocate for buyers in the property market. Don’t miss out—register now and take the next step towards becoming an exceptional buyer’s agent! \n  \n			\n				Book and pay here
URL:https://www.parkerbuyeradvocates.com.au/event/become-a-buyers-agent-full-day-in-person-training/
LOCATION:Camberwell\, VIC
CATEGORIES:Buyer Agent Training
ATTACH;FMTTYPE=image/jpeg:https://www.parkerbuyeradvocates.com.au/wp-content/uploads/2024/01/Lisa-Parker-pref-24-scaled.jpg
END:VEVENT
BEGIN:VEVENT
DTSTART;TZID=Australia/Melbourne:20240520T190000
DTEND;TZID=Australia/Melbourne:20240520T200000
DTSTAMP:20260423T205849
CREATED:20240508T112652Z
LAST-MODIFIED:20240509T044305Z
UID:10397-1716231600-1716235200@www.parkerbuyeradvocates.com.au
SUMMARY:Mastering Client Dynamics (Online Training)
DESCRIPTION:In the fast-paced world of real estate\, buyer’s agents often encounter clients with high demands and complex needs. Managing these clients effectively is not just about safeguarding your transactions; it’s about ensuring your career remains both profitable and enjoyable. Whether you’re new to the field or an experienced agent facing client management challenges\, this workshop is designed to arm you with the strategies you need to turn potential client pitfalls into opportunities for growth and success. \nRed Flag Recognition: Quickly identify potential high-maintenance clients before engagement.Preemptive Strategies: Learn tactics to set the right expectations and boundaries from the start.Client Management Mastery: Gain insights into navigating challenging interactions and keeping your projects on track.Protecting Your Energy: Techniques to manage your workload effectively\, ensuring you can focus on rewarding client relationships.Communication Excellence: Enhance your communication skills to manage expectations and mitigate conflicts effortlessly. \n			\n				Book and pay here
URL:https://www.parkerbuyeradvocates.com.au/event/mastering-client-dynamics-online-training/
LOCATION:Webinar\, Australia
CATEGORIES:Buyer Agent Training
ATTACH;FMTTYPE=image/png:https://www.parkerbuyeradvocates.com.au/wp-content/uploads/2023/03/2.png
END:VEVENT
BEGIN:VEVENT
DTSTART;TZID=Australia/Melbourne:20191016T120000
DTEND;TZID=Australia/Melbourne:20191016T130000
DTSTAMP:20260423T205849
CREATED:20190919T064735Z
LAST-MODIFIED:20191007T030348Z
UID:7642-1571227200-1571230800@www.parkerbuyeradvocates.com.au
SUMMARY:Frankston; Ripe for Investment
DESCRIPTION:STOP struggling with trying to find the next High Growth Suburb \nSTOP the endless hours searching realestate.com.au and reading endless property articles \nSTOP feeling desperate\, hopeless and on the brink of giving up altogether \n  \nFrankston; Ripe For Investment – The Investigative Webinar\, taking place live on 16th October 2019\, is here to save you. \nSign up here: https://www.parkerbuyeradvocates.com.au/event/frankston-revealed-uncover-its-blue-chip-investment-properties/ \n  \n			\n				\n				\n				\n				\n				\n			\n				\n				\n				\n				\n				Register now\n			\n				\n				\n				\n				\n				\n			\n				\n				\n				\n				\n				\n			\n			\n				\n				\n				\n				\n			\n				\n				\n				\n				\n				\n				\n				\n				\n				\n				\n				\n			\n			\n				\n				\n				\n				\n				\n				\n				\n				\n				\n				I am Lisa Parker\, Buyers Advocate with 15 years experience\, and I mentor property seekers & professionals towards wealth in property.  \nWith 15 years experience running a Buyer’s Agency in Melbourne and fully Licensed Real Estate Agent (Certificate 1V in Property)\, specialising in Buyer’s Advocacy\, as well as a committee members of REBAA – Real Estate Buyers Agents Association of Australia\, I understand all facets of the Real Estate Market. \n			\n			\n				\n				\n				\n				\n			\n				\n				\n				\n				\n				\n				\n				\n				\n				\n				\n				Frankston is a huge suburb with a number of pockets. It’s important for investors to understand the different pockets and the opportunities in each of the sections. \n \nLisa will lead you through an indepth investigation of Frankston which will:  \n\nBust 2 common misconceptions about the Frankston market that buyers should know \nLook at the different strategy types that will work in Frankston \nEducate you on Price points for the area\nEnsure you understand the draw cards and opportunities available in the current market so you can jump in at the ground floor BEFORE it booms again.\n\n			\n				\n				\n				\n				\n				Register now
URL:https://www.parkerbuyeradvocates.com.au/event/frankston-revealed-uncover-its-blue-chip-investment-properties/
LOCATION:Webinar\, Australia
CATEGORIES:First Home Buyer,Home Buyer,Investor,Webinar
ATTACH;FMTTYPE=image/jpeg:https://www.parkerbuyeradvocates.com.au/wp-content/uploads/2019/09/frankston-revealed-fb-ad.jpg
END:VEVENT
BEGIN:VEVENT
DTSTART;TZID=Australia/Melbourne:20190827T110000
DTEND;TZID=Australia/Melbourne:20190827T120000
DTSTAMP:20260423T205849
CREATED:20190718T043715Z
LAST-MODIFIED:20190812T033104Z
UID:7547-1566903600-1566907200@www.parkerbuyeradvocates.com.au
SUMMARY:Webinar - How to Choose a Buyers Advocate
DESCRIPTION:With 15 years experience running a Buyer’s Agency in Melbourne and fully Licensed Real Estate Agent (Certificate 1V in Property)\, specialising in Buyer’s Advocacy\, as well as a committee members of REBAA – Real Estate Buyers Agents Association of Australia\, Lisa Parker understands all facts of the Buyers Agent profession. \nReserve your seat at the webinar  \n  \n  \n\n \n			\n				Register Here\n			\n			\n				\n				\n				\n				\n				\n				\n				\n				\n				\n				Lisa will share with you the exact steps you need to take to select the Buyers Advocate that is right for you AND your specific situation.  \nYou will leave this webinar wiser with the following topics: \n\nLearn how to spot the fakes\nAvoid the dodgy brothers.com\nUnderstand the pricing difference between advocates\nKnow what to look for in an advocate\, andWhat to watch out for\nShortcut your search for the right advocate (save time)\nAnd how to choose an advocate that is a fit for YOU and your situation
URL:https://www.parkerbuyeradvocates.com.au/event/webinar-how-to-choose-a-buyers-advocate/
LOCATION:Webinar\, Australia
ATTACH;FMTTYPE=image/jpeg:https://www.parkerbuyeradvocates.com.au/wp-content/uploads/2019/07/Webinar_Header.jpg
END:VEVENT
BEGIN:VEVENT
DTSTART;TZID=Australia/Melbourne:20190528T123000
DTEND;TZID=Australia/Melbourne:20190528T133000
DTSTAMP:20260423T205849
CREATED:20190514T082825Z
LAST-MODIFIED:20190522T033248Z
UID:6814-1559046600-1559050200@www.parkerbuyeradvocates.com.au
SUMMARY:Lunch & Learn
DESCRIPTION:Parker Buyer Advocates\, Director & Buyers Agent Lisa Parker presents on the findings & implications of the royal commission & elections. \nLunch while you Learn about the effect of these on the industry and you\, the consumer. \nReserve your seat to receive further details. \n			[et_pb_dcgd_gravity_divi_module gf_form=”14″ show_title=”off” _builder_version=”3.19.10″ fontsformbody_font=”||||||||” fontsformelements_font=”||||||||” background_color=”#33a1af” border_radii=”on|10px|10px|10px|10px” custom_padding=”20px|20px||20px”][/et_pb_dcgd_gravity_divi_module]
URL:https://www.parkerbuyeradvocates.com.au/event/lunch-learn/
LOCATION:Chadstone Waterman Offices\, Level 2 UL40/1341 Dandenong Road\, Chadstone\, VIC\, 3148\, Australia
CATEGORIES:Home Buyer,Investor
ATTACH;FMTTYPE=image/jpeg:https://www.parkerbuyeradvocates.com.au/wp-content/uploads/2019/05/LunchLearn.jpg
END:VEVENT
BEGIN:VEVENT
DTSTART;TZID=Australia/Melbourne:20190413T150000
DTEND;TZID=Australia/Melbourne:20190413T170000
DTSTAMP:20260423T205849
CREATED:20190320T014504Z
LAST-MODIFIED:20190812T034313Z
UID:6277-1555167600-1555174800@www.parkerbuyeradvocates.com.au
SUMMARY:April 2019 ANZ First Home Buyer Information Session
DESCRIPTION:We are very excited to announce that our Director\, Lisa Parker will feature as keynote speaker of ANZ’s exclusive First Home Buyer Information Session.  \nLisa is honoured to be invited by ANZ to speak with First Home Buyers about their potential within the marketplace and how to streamline their home buying journey.  \nIt is no secret that buying your first home can be an overwhelming experience. This intimate\, limited seating event will provide you with the knowledge\, guidance and expertise you need.  \n			\n			\n				\n				\n				\n				\n				\n				\n				\n				\n				\n				Reserve Your Seat here\n			[et_pb_dcgd_gravity_divi_module gf_form=”12″ _builder_version=”3.19.10″ background_color=”#b0f6ff” border_radii=”on|10px|10px|10px|10px” border_width_all=”20px” border_color_all=”#b0f6ff”][/et_pb_dcgd_gravity_divi_module]
URL:https://www.parkerbuyeradvocates.com.au/event/anz-first-home-buyer-seminar-april-2019/
LOCATION:ANZ Chadstone Home\, 1341 Dandenong Road\, Chadstone\, VIC\, 3198\, Australia
CATEGORIES:First Home Buyer
ATTACH;FMTTYPE=image/jpeg:https://www.parkerbuyeradvocates.com.au/wp-content/uploads/2019/03/ANZ-FHB-FacebookEvent-header-e1565581370377.jpg
ORGANIZER;CN="Jan Gilmore":MAILTO:jan.gilmore@anz.com
END:VEVENT
BEGIN:VEVENT
DTSTART;TZID=Australia/Melbourne:20190407T143000
DTEND;TZID=Australia/Melbourne:20190407T150000
DTSTAMP:20260423T205849
CREATED:20190401T041101Z
LAST-MODIFIED:20190403T004525Z
UID:6358-1554647400-1554649200@www.parkerbuyeradvocates.com.au
SUMMARY:Property Talk Australia Interviews Lisa Parker LIVE
DESCRIPTION:  \nToday we are thrilled to announce Property Talk Australia’s next live interview is with our very own director Lisa Parker. \n\nLisa is very active in PTA\, always adding value and offering advice where she can. \nShe will be sharing her experience and knowledge as a leading Buyer Advocate in Melbourne over the past 15 years as the Property Talk Australia team expertly interview her live. \nHaving completed 22 personal renovations and holding additional qualifications as a financial planner and qualified Mortgage Broker\, this is an interview that cannot be missed! \nThis live interview is scheduled for this coming Sunday\, 7th of April at 2.30pm. Please post any of your questions via the link and we’ll make sure to ask Lisa on the day. \n\n			\n			\n				\n				\n				\n				\n				\n				\n				\n				\n				\n				Reserve Your Seat here\n			[et_pb_dcgd_gravity_divi_module gf_form=”13″ show_title=”off” show_description=”off” enable_ajax=”off” _builder_version=”3.19.10″ fontstitle_font_size_tablet=”51″ fontstitle_line_height_tablet=”2″ fontsformdesc_font_size_tablet=”51″ fontsformdesc_line_height_tablet=”2″ fontsformbody_font_size_tablet=”51″ fontsformbody_line_height_tablet=”2″ fontsformelements_font_size_tablet=”51″ fontsformelements_line_height_tablet=”2″ background_color=”#b0f6ff” border_radii=”on|10px|10px|10px|10px” border_width_all=”20px” border_color_all=”#b0f6ff”]\n[/et_pb_dcgd_gravity_divi_module]
URL:https://www.parkerbuyeradvocates.com.au/event/property-talk-australia-interviews-lisa-parker-live/
LOCATION:Property Talk Australia\, Australia
CATEGORIES:Investor,Webinar
ATTACH;FMTTYPE=image/jpeg:https://www.parkerbuyeradvocates.com.au/wp-content/uploads/2019/04/PropertyTalkAustralia_EventHeader2.jpg
END:VEVENT
END:VCALENDAR